BEGIN:VCALENDAR
VERSION:2.0
PRODID:-//TSV Aurich - ECPv6.15.20//NONSGML v1.0//EN
CALSCALE:GREGORIAN
METHOD:PUBLISH
X-WR-CALNAME:TSV Aurich
X-ORIGINAL-URL:https://tsv-aurich.de
X-WR-CALDESC:Veranstaltungen für TSV Aurich
REFRESH-INTERVAL;VALUE=DURATION:PT1H
X-Robots-Tag:noindex
X-PUBLISHED-TTL:PT1H
BEGIN:VTIMEZONE
TZID:Europe/Paris
BEGIN:DAYLIGHT
TZOFFSETFROM:+0100
TZOFFSETTO:+0200
TZNAME:CEST
DTSTART:20240331T010000
END:DAYLIGHT
BEGIN:STANDARD
TZOFFSETFROM:+0200
TZOFFSETTO:+0100
TZNAME:CET
DTSTART:20241027T010000
END:STANDARD
BEGIN:DAYLIGHT
TZOFFSETFROM:+0100
TZOFFSETTO:+0200
TZNAME:CEST
DTSTART:20250330T010000
END:DAYLIGHT
BEGIN:STANDARD
TZOFFSETFROM:+0200
TZOFFSETTO:+0100
TZNAME:CET
DTSTART:20251026T010000
END:STANDARD
BEGIN:DAYLIGHT
TZOFFSETFROM:+0100
TZOFFSETTO:+0200
TZNAME:CEST
DTSTART:20260329T010000
END:DAYLIGHT
BEGIN:STANDARD
TZOFFSETFROM:+0200
TZOFFSETTO:+0100
TZNAME:CET
DTSTART:20261025T010000
END:STANDARD
END:VTIMEZONE
BEGIN:VTIMEZONE
TZID:Europe/Berlin
BEGIN:DAYLIGHT
TZOFFSETFROM:+0100
TZOFFSETTO:+0200
TZNAME:CEST
DTSTART:20240331T010000
END:DAYLIGHT
BEGIN:STANDARD
TZOFFSETFROM:+0200
TZOFFSETTO:+0100
TZNAME:CET
DTSTART:20241027T010000
END:STANDARD
BEGIN:DAYLIGHT
TZOFFSETFROM:+0100
TZOFFSETTO:+0200
TZNAME:CEST
DTSTART:20250330T010000
END:DAYLIGHT
BEGIN:STANDARD
TZOFFSETFROM:+0200
TZOFFSETTO:+0100
TZNAME:CET
DTSTART:20251026T010000
END:STANDARD
BEGIN:DAYLIGHT
TZOFFSETFROM:+0100
TZOFFSETTO:+0200
TZNAME:CEST
DTSTART:20260329T010000
END:DAYLIGHT
BEGIN:STANDARD
TZOFFSETFROM:+0200
TZOFFSETTO:+0100
TZNAME:CET
DTSTART:20261025T010000
END:STANDARD
END:VTIMEZONE
BEGIN:VEVENT
DTSTART;TZID=Europe/Paris:20251205T150000
DTEND;TZID=Europe/Paris:20251205T200000
DTSTAMP:20260421T103832
CREATED:20250408T192354Z
LAST-MODIFIED:20260307T094331Z
UID:2818-1764946800-1764964800@tsv-aurich.de
SUMMARY:Auricher Weihnachtsmarkt
DESCRIPTION:
URL:https://tsv-aurich.de/veranstaltung/auricher-weihnachtsmarkt/
CATEGORIES:Veranstaltung
ATTACH;FMTTYPE=image/png:https://tsv-aurich.de/wp-content/uploads/2025/04/Thumbnail_Weihnachtsmarkt.png
END:VEVENT
BEGIN:VEVENT
DTSTART;TZID=Europe/Berlin:20251231T110000
DTEND;TZID=Europe/Berlin:20251231T160000
DTSTAMP:20260421T103832
CREATED:20241221T110239Z
LAST-MODIFIED:20260307T094553Z
UID:1519-1767178800-1767196800@tsv-aurich.de
SUMMARY:Silvestertreff
DESCRIPTION:Liebe Mitglieder und Freunde des TSV Aurich\, \ndas Jahr neigt sich dem Ende zu\, und wir möchten diesen besonderen Tag gerne gemeinsam mit Euch verbringen! \nWir laden Euch herzlich zu unserem Silvestertreff ein! Es erwarten Euch: \n\nGlühwein für die kalten Stunden\nLeckere Wurst und Fleisch vom Grill\nKnusprige Pommes\n\nKommt vorbei\, lasst uns gemeinsam auf das vergangene Jahr zurückblicken und das neue Jahr gebührend einläuten! \nWir freuen uns auf ein gemütliches Beisammensein mit Euch.\nEuer TSV Aurich \nP.S.: Bringt gerne Familie und Freunde mit – je mehr\, desto besser! 🎉
URL:https://tsv-aurich.de/veranstaltung/silvestertreff/
LOCATION:Sportplatz Aurich\, Nussdorferstraße 42\, Vaihingen-Enz\, 71665\, Germany
CATEGORIES:Veranstaltung
ATTACH;FMTTYPE=image/png:https://tsv-aurich.de/wp-content/uploads/2024/12/Silvestertreff_Thumbnail.png
END:VEVENT
END:VCALENDAR